BEGIN:VCALENDAR
VERSION:2.0
PRODID:LFV Website-Kit
METHOD:PUBLISH
BEGIN:VEVENT
UID:lfv-830c76e4-4f0e-4ab5-8a02-fb6395e9eb9d
LOCATION:Martin-Kuen-Straße 9
SUMMARY:Tag der Vereine
DESCRIPTION:Weißenhorner Tag der Vereine\n\nTermin Link: https://www.feuerwehr-weissenhorn.de/termine/tag-der-vereine/
URL:https://www.feuerwehr-weissenhorn.de/termine/tag-der-vereine/
CLASS:PRIVATE
DTSTART;TZID=Europe/Berlin:20260425T140000
DTEND;TZID=Europe/Berlin:20260425T180000
DTSTAMP:20260421T135358Z
END:VEVENT
END:VCALENDAR