BEGIN:VCALENDAR
VERSION:2.0
PRODID:LFV Website-Kit
METHOD:PUBLISH
BEGIN:VEVENT
UID:lfv-caef8d70-1894-42d6-8bb9-3e272db2b3f4
LOCATION:Herzog-Georg-Straße 4
SUMMARY:Weihnachtstrucker Päckchenabgabe
DESCRIPTION:Unsere Jugendfeuerwehr sammelt dieses Jahr wieder Päckchen für die Aktion Weihnachtstrucker.\n\nTermin Link: https://www.feuerwehr-weissenhorn.de/termine/weihnachtstrucker-packchenabgabe-1/
URL:https://www.feuerwehr-weissenhorn.de/termine/weihnachtstrucker-packchenabgabe-1/
CLASS:PRIVATE
DTSTART;TZID=Europe/Berlin:20241130T090000
DTEND;TZID=Europe/Berlin:20241130T120000
DTSTAMP:20260423T095040Z
END:VEVENT
END:VCALENDAR